BEGIN:VCALENDAR
PRODID:-//Pixl8//Eventfolio//EN
VERSION:2.0
X-WR-TIMEZONE:Pacific/Auckland
CALSCALE:GREGORIAN
METHOD:PUBLISH
CLASS:PUBLIC
BEGIN:VTIMEZONE
TZID:Pacific/Auckland
LAST-MODIFIED:20260306T231828Z
TZURL:https://www.tzurl.org/zoneinfo-outlook/Pacific/Auckland
X-LIC-LOCATION:Pacific/Auckland
BEGIN:DAYLIGHT
TZNAME:NZDT
TZOFFSETFROM:+1200
TZOFFSETTO:+1300
DTSTART:19700927T020000
RRULE:FREQ=YEARLY;BYMONTH=9;BYDAY=-1SU
END:DAYLIGHT
BEGIN:STANDARD
TZNAME:NZST
TZOFFSETFROM:+1300
TZOFFSETTO:+1200
DTSTART:19700405T030000
RRULE:FREQ=YEARLY;BYMONTH=4;BYDAY=1SU
END:STANDARD
END:VTIMEZONE
BEGIN:VEVENT
DTSTART;TZID=Pacific/Auckland:20261124T090000
DTEND;TZID=Pacific/Auckland:20261127T050000
DTSTAMP:20260424T060218Z
UID:{209E8912-D676-41C4-B55067CB73C6E2EA}
LOCATION:Rutherford House\, Victoria University\, Wellington 
SUMMARY:32nd Annual New Zealand Microscopy Conference 
DESCRIPTION:Event details: https://www.rms.org.uk/rms-event-calendar/32nd-annual-new-zealand-microscopy-conference.html
PRIORITY:1
END:VEVENT
END:VCALENDAR