BEGIN:VCALENDAR
PRODID:-//Pixl8//Eventfolio//EN
VERSION:2.0
X-WR-TIMEZONE:America/Vancouver
CALSCALE:GREGORIAN
METHOD:PUBLISH
CLASS:PUBLIC
BEGIN:VTIMEZONE
TZID:America/Vancouver
LAST-MODIFIED:20260306T231828Z
TZURL:https://www.tzurl.org/zoneinfo-outlook/America/Vancouver
X-LIC-LOCATION:America/Vancouver
BEGIN:DAYLIGHT
TZNAME:PDT
TZOFFSETFROM:-0800
TZOFFSETTO:-0700
DTSTART:19700308T020000
RRULE:FREQ=YEARLY;BYMONTH=3;BYDAY=2SU
END:DAYLIGHT
BEGIN:STANDARD
TZNAME:PST
TZOFFSETFROM:-0700
TZOFFSETTO:-0800
DTSTART:19701101T020000
RRULE:FREQ=YEARLY;BYMONTH=11;BYDAY=1SU
END:STANDARD
END:VTIMEZONE
BEGIN:VEVENT
DTSTART;TZID=America/Vancouver;VALUE=DATE:20241001
DTEND;TZID=America/Vancouver;VALUE=DATE:20241005
DTSTAMP:20260425T143648Z
UID:{1CCED38D-06BD-494F-9F6D62C38E2E963B}
LOCATION:Wesbrook Mall\, Vancouver\, British Columbia
SUMMARY:9th Meeting of The Invadosome Consortium 
DESCRIPTION:Join us for the 9th Meeting of The Invadosome Consortium in beautiful Vancouver, Canada. The 9th Meeting of The Invadosome Consortium will bring together researchers focused on invadopodia and podosomes, imaging cell dynamics, and cell signaling and motility.  Come and share their insights and make meaningful connections.\n
 \n
 Event details: https://www.rms.org.uk/rms-event-calendar/9th-meeting-of-the-invadosome-consortium.html
PRIORITY:1
END:VEVENT
END:VCALENDAR