BEGIN:VCALENDAR
PRODID:-//Pixl8//Eventfolio//EN
VERSION:2.0
X-WR-TIMEZONE:Europe/London
CALSCALE:GREGORIAN
METHOD:PUBLISH
CLASS:PUBLIC
BEGIN:VTIMEZONE
TZID:Europe/London
LAST-MODIFIED:20260306T231828Z
TZURL:https://www.tzurl.org/zoneinfo-outlook/Europe/London
X-LIC-LOCATION:Europe/London
BEGIN:DAYLIGHT
TZNAME:BST
TZOFFSETFROM:+0000
TZOFFSETTO:+0100
DTSTART:19700329T010000
RRULE:FREQ=YEARLY;BYMONTH=3;BYDAY=-1SU
END:DAYLIGHT
BEGIN:STANDARD
TZNAME:GMT
TZOFFSETFROM:+0100
TZOFFSETTO:+0000
DTSTART:19701025T020000
RRULE:FREQ=YEARLY;BYMONTH=10;BYDAY=-1SU
END:STANDARD
END:VTIMEZONE
BEGIN:VEVENT
DTSTART;TZID=Europe/London;VALUE=DATE:20200531
DTEND;TZID=Europe/London;VALUE=DATE:20200601
DTSTAMP:20260424T170752Z
UID:{AC5422BB-6C95-4077-A79F686F2DEDCC90}
LOCATION:Bethlehem\, PA USA
SUMMARY:Lehigh Microscopy School
DESCRIPTION:Event details: https://www.rms.org.uk/rms-event-calendar/FE91F211-AB50-422A-98E00CA8FDFC75BA.html
PRIORITY:1
END:VEVENT
END:VCALENDAR