BEGIN:VCALENDAR
PRODID:-//Pixl8//Eventfolio//EN
VERSION:2.0
X-WR-TIMEZONE:Europe/Berlin
CALSCALE:GREGORIAN
METHOD:PUBLISH
CLASS:PUBLIC
BEGIN:VTIMEZONE
TZID:Europe/Berlin
LAST-MODIFIED:20260306T231828Z
TZURL:https://www.tzurl.org/zoneinfo-outlook/Europe/Berlin
X-LIC-LOCATION:Europe/Berlin
BEGIN:DAYLIGHT
TZNAME:CEST
TZOFFSETFROM:+0100
TZOFFSETTO:+0200
DTSTART:19700329T020000
RRULE:FREQ=YEARLY;BYMONTH=3;BYDAY=-1SU
END:DAYLIGHT
BEGIN:STANDARD
TZNAME:CET
TZOFFSETFROM:+0200
TZOFFSETTO:+0100
DTSTART:19701025T030000
RRULE:FREQ=YEARLY;BYMONTH=10;BYDAY=-1SU
END:STANDARD
END:VTIMEZONE
BEGIN:VEVENT
DTSTART;TZID=Europe/Berlin:20240616T090000
DTEND;TZID=Europe/Berlin:20240620T180000
DTSTAMP:20260424T170458Z
UID:{172CB026-2142-422E-A766157CB1F650CE}
LOCATION:Copenhagen\, Denmark
SUMMARY:Coherence 2024
DESCRIPTION:COHERENCE is a top international meeting on developing and using coherent scattering methods with X-rays, EUV, electrons, lasers, and more. It attracts researchers from many fields (physics, chemistry, biology, optics, and more) interested in developing coherence-based methods and their applications.\n
 \n
 Event details: https://www.rms.org.uk/rms-event-calendar/coherence-2024.html
PRIORITY:1
END:VEVENT
END:VCALENDAR