BEGIN:VCALENDAR
PRODID:-//Pixl8//Eventfolio//EN
VERSION:2.0
X-WR-TIMEZONE:Europe/London
CALSCALE:GREGORIAN
METHOD:PUBLISH
CLASS:PUBLIC
BEGIN:VTIMEZONE
TZID:Europe/London
LAST-MODIFIED:20260306T231828Z
TZURL:https://www.tzurl.org/zoneinfo-outlook/Europe/London
X-LIC-LOCATION:Europe/London
BEGIN:DAYLIGHT
TZNAME:BST
TZOFFSETFROM:+0000
TZOFFSETTO:+0100
DTSTART:19700329T010000
RRULE:FREQ=YEARLY;BYMONTH=3;BYDAY=-1SU
END:DAYLIGHT
BEGIN:STANDARD
TZNAME:GMT
TZOFFSETFROM:+0100
TZOFFSETTO:+0000
DTSTART:19701025T020000
RRULE:FREQ=YEARLY;BYMONTH=10;BYDAY=-1SU
END:STANDARD
END:VTIMEZONE
BEGIN:VEVENT
DTSTART;TZID=Europe/London:20170224T090100
DTEND;TZID=Europe/London:20170224T170000
DTSTAMP:20260424T114100Z
UID:{E104D5F6-0FDC-452D-A18ECC2A4DA2F4E9}
LOCATION:Greater London
SUMMARY:Cryogenic Preparation and Imaging Strategies for Soft Matter in Materials Science
DESCRIPTION:Event details: https://www.rms.org.uk/rms-event-calendar/cryogenic-preparation-imaging.html
PRIORITY:1
END:VEVENT
END:VCALENDAR