BEGIN:VCALENDAR
PRODID:-//Pixl8//Eventfolio//EN
VERSION:2.0
X-WR-TIMEZONE:Europe/London
CALSCALE:GREGORIAN
METHOD:PUBLISH
CLASS:PUBLIC
BEGIN:VTIMEZONE
TZID:Europe/London
LAST-MODIFIED:20260306T231828Z
TZURL:https://www.tzurl.org/zoneinfo-outlook/Europe/London
X-LIC-LOCATION:Europe/London
BEGIN:DAYLIGHT
TZNAME:BST
TZOFFSETFROM:+0000
TZOFFSETTO:+0100
DTSTART:19700329T010000
RRULE:FREQ=YEARLY;BYMONTH=3;BYDAY=-1SU
END:DAYLIGHT
BEGIN:STANDARD
TZNAME:GMT
TZOFFSETFROM:+0100
TZOFFSETTO:+0000
DTSTART:19701025T020000
RRULE:FREQ=YEARLY;BYMONTH=10;BYDAY=-1SU
END:STANDARD
END:VTIMEZONE
BEGIN:VEVENT
DTSTART;TZID=Europe/London:20240715T090000
DTEND;TZID=Europe/London:20240715T173000
DTSTAMP:20260424T072032Z
UID:{A691787D-72CD-4632-9B388A66974551F0.45488}
LOCATION:Leeds\, UK
SUMMARY:Electron Microscopy Summer School 2024
DESCRIPTION:Event details: https://www.rms.org.uk/rms-event-calendar/electron-microscopy-summer-school-2024.html
PRIORITY:1
END:VEVENT
BEGIN:VEVENT
DTSTART;TZID=Europe/London:20240716T090000
DTEND;TZID=Europe/London:20240716T173000
DTSTAMP:20260424T072032Z
UID:{A691787D-72CD-4632-9B388A66974551F0.45489}
LOCATION:Leeds\, UK
SUMMARY:Electron Microscopy Summer School 2024
DESCRIPTION:Event details: https://www.rms.org.uk/rms-event-calendar/electron-microscopy-summer-school-2024.html
PRIORITY:1
END:VEVENT
BEGIN:VEVENT
DTSTART;TZID=Europe/London:20240717T090000
DTEND;TZID=Europe/London:20240717T173000
DTSTAMP:20260424T072032Z
UID:{A691787D-72CD-4632-9B388A66974551F0.45490}
LOCATION:Leeds\, UK
SUMMARY:Electron Microscopy Summer School 2024
DESCRIPTION:Event details: https://www.rms.org.uk/rms-event-calendar/electron-microscopy-summer-school-2024.html
PRIORITY:1
END:VEVENT
BEGIN:VEVENT
DTSTART;TZID=Europe/London:20240718T090000
DTEND;TZID=Europe/London:20240718T170000
DTSTAMP:20260424T072032Z
UID:{A691787D-72CD-4632-9B388A66974551F0.45491}
LOCATION:Leeds\, UK
SUMMARY:Electron Microscopy Summer School 2024
DESCRIPTION:Event details: https://www.rms.org.uk/rms-event-calendar/electron-microscopy-summer-school-2024.html
PRIORITY:1
END:VEVENT
BEGIN:VEVENT
DTSTART;TZID=Europe/London:20240719T093000
DTEND;TZID=Europe/London:20240719T130000
DTSTAMP:20260424T072032Z
UID:{A691787D-72CD-4632-9B388A66974551F0.45492}
LOCATION:Leeds\, UK
SUMMARY:Electron Microscopy Summer School 2024
DESCRIPTION:Event details: https://www.rms.org.uk/rms-event-calendar/electron-microscopy-summer-school-2024.html
PRIORITY:1
END:VEVENT
END:VCALENDAR