BEGIN:VCALENDAR
PRODID:-//Pixl8//Eventfolio//EN
VERSION:2.0
X-WR-TIMEZONE:Europe/Helsinki
CALSCALE:GREGORIAN
METHOD:PUBLISH
CLASS:PUBLIC
BEGIN:VTIMEZONE
TZID:Europe/Helsinki
LAST-MODIFIED:20260306T231828Z
TZURL:https://www.tzurl.org/zoneinfo-outlook/Europe/Helsinki
X-LIC-LOCATION:Europe/Helsinki
BEGIN:DAYLIGHT
TZNAME:EEST
TZOFFSETFROM:+0200
TZOFFSETTO:+0300
DTSTART:19700329T030000
RRULE:FREQ=YEARLY;BYMONTH=3;BYDAY=-1SU
END:DAYLIGHT
BEGIN:STANDARD
TZNAME:EET
TZOFFSETFROM:+0300
TZOFFSETTO:+0200
DTSTART:19701025T040000
RRULE:FREQ=YEARLY;BYMONTH=10;BYDAY=-1SU
END:STANDARD
END:VTIMEZONE
BEGIN:VEVENT
DTSTART;TZID=Europe/Helsinki;VALUE=DATE:20220607
DTEND;TZID=Europe/Helsinki;VALUE=DATE:20220611
DTSTAMP:20260424T144412Z
UID:{B669E501-F873-4AEA-B4C64CCD21BD49B7}
LOCATION:Logomo\, Turku\, Finland
SUMMARY:elmi2022
DESCRIPTION:Event details: https://www.rms.org.uk/rms-event-calendar/elmi2022.html
PRIORITY:1
END:VEVENT
END:VCALENDAR