BEGIN:VCALENDAR
PRODID:-//Pixl8//Eventfolio//EN
VERSION:2.0
X-WR-TIMEZONE:Europe/London
CALSCALE:GREGORIAN
METHOD:PUBLISH
CLASS:PUBLIC
BEGIN:VTIMEZONE
TZID:Europe/London
LAST-MODIFIED:20260306T231828Z
TZURL:https://www.tzurl.org/zoneinfo-outlook/Europe/London
X-LIC-LOCATION:Europe/London
BEGIN:DAYLIGHT
TZNAME:BST
TZOFFSETFROM:+0000
TZOFFSETTO:+0100
DTSTART:19700329T010000
RRULE:FREQ=YEARLY;BYMONTH=3;BYDAY=-1SU
END:DAYLIGHT
BEGIN:STANDARD
TZNAME:GMT
TZOFFSETFROM:+0100
TZOFFSETTO:+0000
DTSTART:19701025T020000
RRULE:FREQ=YEARLY;BYMONTH=10;BYDAY=-1SU
END:STANDARD
END:VTIMEZONE
BEGIN:VEVENT
DTSTART;TZID=Europe/London:20220707T153000
DTEND;TZID=Europe/London:20220707T180000
DTSTAMP:20260424T072032Z
UID:{17370D82-7A17-4F65-B6D447CBEF658122}
LOCATION:Imperial College London SW7 2BZ - City and Guilds Building (CAGB) 
SUMMARY:A new UK Roadmap for Electron Microscopy in the Physical Sciences: Initial Town Hall Meeting Launch 
DESCRIPTION:Event details: https://www.rms.org.uk/rms-event-calendar/emtownhall-electronmicroscopy-2022.html
PRIORITY:1
END:VEVENT
END:VCALENDAR