BEGIN:VCALENDAR
PRODID:-//Pixl8//Eventfolio//EN
VERSION:2.0
X-WR-TIMEZONE:Australia/Melbourne
CALSCALE:GREGORIAN
METHOD:PUBLISH
CLASS:PUBLIC
BEGIN:VTIMEZONE
TZID:Australia/Melbourne
LAST-MODIFIED:20260306T231828Z
TZURL:https://www.tzurl.org/zoneinfo-outlook/Australia/Melbourne
X-LIC-LOCATION:Australia/Melbourne
BEGIN:STANDARD
TZNAME:AEST
TZOFFSETFROM:+1100
TZOFFSETTO:+1000
DTSTART:19700405T030000
RRULE:FREQ=YEARLY;BYMONTH=4;BYDAY=1SU
END:STANDARD
BEGIN:DAYLIGHT
TZNAME:AEDT
TZOFFSETFROM:+1000
TZOFFSETTO:+1100
DTSTART:19701004T020000
RRULE:FREQ=YEARLY;BYMONTH=10;BYDAY=1SU
END:DAYLIGHT
END:VTIMEZONE
BEGIN:VEVENT
DTSTART;TZID=Australia/Melbourne:20240129T030000
DTEND;TZID=Australia/Melbourne:20240129T040000
DTSTAMP:20260425T143258Z
UID:{54668B6A-72B2-4A6F-894C148DF3B5FE32}
LOCATION:Online
SUMMARY:Expansion Microscopy User Group - Australia Hosted - January 2024
DESCRIPTION:Event details: https://www.rms.org.uk/rms-event-calendar/expansion-microscopy-user-group-australia-hosted-january-2024.html
PRIORITY:1
END:VEVENT
END:VCALENDAR