BEGIN:VCALENDAR
PRODID:-//Pixl8//Eventfolio//EN
VERSION:2.0
X-WR-TIMEZONE:Europe/London
CALSCALE:GREGORIAN
METHOD:PUBLISH
CLASS:PUBLIC
BEGIN:VTIMEZONE
TZID:Europe/London
LAST-MODIFIED:20260306T231828Z
TZURL:https://www.tzurl.org/zoneinfo-outlook/Europe/London
X-LIC-LOCATION:Europe/London
BEGIN:DAYLIGHT
TZNAME:BST
TZOFFSETFROM:+0000
TZOFFSETTO:+0100
DTSTART:19700329T010000
RRULE:FREQ=YEARLY;BYMONTH=3;BYDAY=-1SU
END:DAYLIGHT
BEGIN:STANDARD
TZNAME:GMT
TZOFFSETFROM:+0100
TZOFFSETTO:+0000
DTSTART:19701025T020000
RRULE:FREQ=YEARLY;BYMONTH=10;BYDAY=-1SU
END:STANDARD
END:VTIMEZONE
BEGIN:VEVENT
DTSTART;TZID=Europe/London:20200126T090000
DTEND;TZID=Europe/London:20200126T170000
DTSTAMP:20260424T070248Z
UID:{19B88483-FD18-4A98-B926D832C16BB0B4}
LOCATION:Italy
SUMMARY:Exploring, Understanding and Controlling Nanoscale Structure and Dynamics in Liquid
DESCRIPTION:Event details: https://www.rms.org.uk/rms-event-calendar/exploring-understanding-and-controlling.html
PRIORITY:1
END:VEVENT
END:VCALENDAR