BEGIN:VCALENDAR
PRODID:-//Pixl8//Eventfolio//EN
VERSION:2.0
X-WR-TIMEZONE:Europe/London
CALSCALE:GREGORIAN
METHOD:PUBLISH
CLASS:PUBLIC
BEGIN:VTIMEZONE
TZID:Europe/London
LAST-MODIFIED:20260306T231828Z
TZURL:https://www.tzurl.org/zoneinfo-outlook/Europe/London
X-LIC-LOCATION:Europe/London
BEGIN:DAYLIGHT
TZNAME:BST
TZOFFSETFROM:+0000
TZOFFSETTO:+0100
DTSTART:19700329T010000
RRULE:FREQ=YEARLY;BYMONTH=3;BYDAY=-1SU
END:DAYLIGHT
BEGIN:STANDARD
TZNAME:GMT
TZOFFSETFROM:+0100
TZOFFSETTO:+0000
DTSTART:19701025T020000
RRULE:FREQ=YEARLY;BYMONTH=10;BYDAY=-1SU
END:STANDARD
END:VTIMEZONE
BEGIN:VEVENT
DTSTART;TZID=Europe/London:20220110T140000
DTEND;TZID=Europe/London:20220110T190000
DTSTAMP:20260424T144610Z
UID:{6764B95B-A004-424A-8436C9A4DA3D52C9.44571}
LOCATION:Online
SUMMARY:Virtual Flow Cytometry Facilities Meeting 2022
DESCRIPTION:Event details: https://www.rms.org.uk/rms-event-calendar/flow-cytometry-facilities-meeting-2022.html
PRIORITY:1
END:VEVENT
BEGIN:VEVENT
DTSTART;TZID=Europe/London:20220111T110000
DTEND;TZID=Europe/London:20220111T173500
DTSTAMP:20260424T144610Z
UID:{6764B95B-A004-424A-8436C9A4DA3D52C9.44572}
LOCATION:Online
SUMMARY:Virtual Flow Cytometry Facilities Meeting 2022
DESCRIPTION:Event details: https://www.rms.org.uk/rms-event-calendar/flow-cytometry-facilities-meeting-2022.html
PRIORITY:1
END:VEVENT
END:VCALENDAR