BEGIN:VCALENDAR
PRODID:-//Pixl8//Eventfolio//EN
VERSION:2.0
X-WR-TIMEZONE:Europe/London
CALSCALE:GREGORIAN
METHOD:PUBLISH
CLASS:PUBLIC
BEGIN:VTIMEZONE
TZID:Europe/London
LAST-MODIFIED:20260306T231828Z
TZURL:https://www.tzurl.org/zoneinfo-outlook/Europe/London
X-LIC-LOCATION:Europe/London
BEGIN:DAYLIGHT
TZNAME:BST
TZOFFSETFROM:+0000
TZOFFSETTO:+0100
DTSTART:19700329T010000
RRULE:FREQ=YEARLY;BYMONTH=3;BYDAY=-1SU
END:DAYLIGHT
BEGIN:STANDARD
TZNAME:GMT
TZOFFSETFROM:+0100
TZOFFSETTO:+0000
DTSTART:19701025T020000
RRULE:FREQ=YEARLY;BYMONTH=10;BYDAY=-1SU
END:STANDARD
END:VTIMEZONE
BEGIN:VEVENT
DTSTART;TZID=Europe/London:20230130T090000
DTEND;TZID=Europe/London:20230130T220000
DTSTAMP:20260424T115354Z
UID:{822E151D-60FC-447C-9DAD85098892275A.44956}
LOCATION:15Hatfields\, 15Hatfields\, South Bank\, London SE1 8DJ
SUMMARY:Flow Cytometry Facilities Meeting 2023 - NEW DATES
DESCRIPTION:Event details: https://www.rms.org.uk/rms-event-calendar/flow-cytometry-facilities-meeting-2023-new-dates.html
PRIORITY:1
END:VEVENT
BEGIN:VEVENT
DTSTART;TZID=Europe/London:20230131T090000
DTEND;TZID=Europe/London:20230131T170000
DTSTAMP:20260424T115354Z
UID:{822E151D-60FC-447C-9DAD85098892275A.44957}
LOCATION:15Hatfields\, 15Hatfields\, South Bank\, London SE1 8DJ
SUMMARY:Flow Cytometry Facilities Meeting 2023 - NEW DATES
DESCRIPTION:Event details: https://www.rms.org.uk/rms-event-calendar/flow-cytometry-facilities-meeting-2023-new-dates.html
PRIORITY:1
END:VEVENT
END:VCALENDAR