BEGIN:VCALENDAR
PRODID:-//Pixl8//Eventfolio//EN
VERSION:2.0
X-WR-TIMEZONE:Europe/London
CALSCALE:GREGORIAN
METHOD:PUBLISH
CLASS:PUBLIC
BEGIN:VTIMEZONE
TZID:Europe/London
LAST-MODIFIED:20260306T231828Z
TZURL:https://www.tzurl.org/zoneinfo-outlook/Europe/London
X-LIC-LOCATION:Europe/London
BEGIN:DAYLIGHT
TZNAME:BST
TZOFFSETFROM:+0000
TZOFFSETTO:+0100
DTSTART:19700329T010000
RRULE:FREQ=YEARLY;BYMONTH=3;BYDAY=-1SU
END:DAYLIGHT
BEGIN:STANDARD
TZNAME:GMT
TZOFFSETFROM:+0100
TZOFFSETTO:+0000
DTSTART:19701025T020000
RRULE:FREQ=YEARLY;BYMONTH=10;BYDAY=-1SU
END:STANDARD
END:VTIMEZONE
BEGIN:VEVENT
DTSTART;TZID=Europe/London:20211117T103000
DTEND;TZID=Europe/London:20211117T170000
DTSTAMP:20260424T013912Z
UID:{3BB53E74-395D-4673-82ADACB0BC8C3E90.44517}
LOCATION:Online
SUMMARY:flowcytometryUK 2021 formerly one day flowcytometryUK
DESCRIPTION:Event details: https://www.rms.org.uk/rms-event-calendar/flowcytometryuk-2021-formerly-one-day-flowcytometryuk.html
PRIORITY:1
END:VEVENT
BEGIN:VEVENT
DTSTART;TZID=Europe/London:20211118T103000
DTEND;TZID=Europe/London:20211118T170000
DTSTAMP:20260424T013912Z
UID:{3BB53E74-395D-4673-82ADACB0BC8C3E90.44518}
LOCATION:Online
SUMMARY:flowcytometryUK 2021 formerly one day flowcytometryUK
DESCRIPTION:Event details: https://www.rms.org.uk/rms-event-calendar/flowcytometryuk-2021-formerly-one-day-flowcytometryuk.html
PRIORITY:1
END:VEVENT
END:VCALENDAR