BEGIN:VCALENDAR
PRODID:-//Pixl8//Eventfolio//EN
VERSION:2.0
X-WR-TIMEZONE:Europe/London
CALSCALE:GREGORIAN
METHOD:PUBLISH
CLASS:PUBLIC
BEGIN:VTIMEZONE
TZID:Europe/London
LAST-MODIFIED:20260306T231828Z
TZURL:https://www.tzurl.org/zoneinfo-outlook/Europe/London
X-LIC-LOCATION:Europe/London
BEGIN:DAYLIGHT
TZNAME:BST
TZOFFSETFROM:+0000
TZOFFSETTO:+0100
DTSTART:19700329T010000
RRULE:FREQ=YEARLY;BYMONTH=3;BYDAY=-1SU
END:DAYLIGHT
BEGIN:STANDARD
TZNAME:GMT
TZOFFSETFROM:+0100
TZOFFSETTO:+0000
DTSTART:19701025T020000
RRULE:FREQ=YEARLY;BYMONTH=10;BYDAY=-1SU
END:STANDARD
END:VTIMEZONE
BEGIN:VEVENT
DTSTART;TZID=Europe/London:20241119T090000
DTEND;TZID=Europe/London:20241119T203000
DTSTAMP:20260424T170735Z
UID:{E8056392-CACA-4111-873C46D6B7AF4542.45615}
LOCATION:15Hatfields\, 15Hatfields\, South Bank\, London SE1 8DJ
SUMMARY:Frontiers in Physical Imaging 2024
DESCRIPTION:Event details: https://www.rms.org.uk/rms-event-calendar/frontiers-in-physical-imaging-2024.html
PRIORITY:1
END:VEVENT
BEGIN:VEVENT
DTSTART;TZID=Europe/London:20241120T090000
DTEND;TZID=Europe/London:20241120T163000
DTSTAMP:20260424T170735Z
UID:{E8056392-CACA-4111-873C46D6B7AF4542.45616}
LOCATION:15Hatfields\, 15Hatfields\, South Bank\, London SE1 8DJ
SUMMARY:Frontiers in Physical Imaging 2024
DESCRIPTION:Event details: https://www.rms.org.uk/rms-event-calendar/frontiers-in-physical-imaging-2024.html
PRIORITY:1
END:VEVENT
END:VCALENDAR