BEGIN:VCALENDAR
PRODID:-//Pixl8//Eventfolio//EN
VERSION:2.0
X-WR-TIMEZONE:Europe/London
CALSCALE:GREGORIAN
METHOD:PUBLISH
CLASS:PUBLIC
BEGIN:VTIMEZONE
TZID:Europe/London
LAST-MODIFIED:20260306T231828Z
TZURL:https://www.tzurl.org/zoneinfo-outlook/Europe/London
X-LIC-LOCATION:Europe/London
BEGIN:DAYLIGHT
TZNAME:BST
TZOFFSETFROM:+0000
TZOFFSETTO:+0100
DTSTART:19700329T010000
RRULE:FREQ=YEARLY;BYMONTH=3;BYDAY=-1SU
END:DAYLIGHT
BEGIN:STANDARD
TZNAME:GMT
TZOFFSETFROM:+0100
TZOFFSETTO:+0000
DTSTART:19701025T020000
RRULE:FREQ=YEARLY;BYMONTH=10;BYDAY=-1SU
END:STANDARD
END:VTIMEZONE
BEGIN:VEVENT
DTSTART;TZID=Europe/London:20240515T090000
DTEND;TZID=Europe/London:20240516T170000
DTSTAMP:20260424T144613Z
UID:{0C8FA55E-849C-45E3-A354CD19356FF9E2}
LOCATION:Halls 3 & 3A\, NEC\, Birmingham\, UK
SUMMARY:High Performance Materials R&D and Manufacturing
DESCRIPTION:The Advanced Materials Show is a showcase of materials with exceptional properties for engineering and electronic applications, along with the technologies used to develop them.\n
 \n
 \n
 \n
 The event brings together leaders in R&D, engineering, science and innovation to share knowledge and learn how to improve advanced materials with particular focus on properties such as: Lightweighting, Conductivity, Durability, Thermal Resilience and Strength.\n
 \n
 \n
 \n
 Co-located with The Advanced Ceramics Show, Battery Cells & Systems Expo and Vehicle Electrification Expo, the four shows will welcome 300+ exhibitors and 4,000+ visitors in May 2024.\n
 \n
 Event details: https://www.rms.org.uk/rms-event-calendar/high-performance-materials-r-d-and-manufacturing.html
PRIORITY:1
END:VEVENT
END:VCALENDAR