BEGIN:VCALENDAR
PRODID:-//Pixl8//Eventfolio//EN
VERSION:2.0
X-WR-TIMEZONE:Europe/Prague
CALSCALE:GREGORIAN
METHOD:PUBLISH
CLASS:PUBLIC
BEGIN:VTIMEZONE
TZID:Europe/Prague
LAST-MODIFIED:20260306T231828Z
TZURL:https://www.tzurl.org/zoneinfo-outlook/Europe/Prague
X-LIC-LOCATION:Europe/Prague
BEGIN:DAYLIGHT
TZNAME:CEST
TZOFFSETFROM:+0100
TZOFFSETTO:+0200
DTSTART:19700329T020000
RRULE:FREQ=YEARLY;BYMONTH=3;BYDAY=-1SU
END:DAYLIGHT
BEGIN:STANDARD
TZNAME:CET
TZOFFSETFROM:+0200
TZOFFSETTO:+0100
DTSTART:19701025T030000
RRULE:FREQ=YEARLY;BYMONTH=10;BYDAY=-1SU
END:STANDARD
END:VTIMEZONE
BEGIN:VEVENT
DTSTART;TZID=Europe/Prague;VALUE=DATE:20220828
DTEND;TZID=Europe/Prague;VALUE=DATE:20220901
DTSTAMP:20260424T071022Z
UID:{9149D401-6EEA-4899-A682B48BCB0CF8B9}
LOCATION:Vienna House Diplomat Prague
SUMMARY:ICHC 2022 
DESCRIPTION:The 16th International Congress of Histochemistry and Cytochemistry\n
 \n
 Event details: https://www.rms.org.uk/rms-event-calendar/ichc-2022.html
PRIORITY:1
END:VEVENT
END:VCALENDAR