BEGIN:VCALENDAR
PRODID:-//Pixl8//Eventfolio//EN
VERSION:2.0
X-WR-TIMEZONE:Europe/London
CALSCALE:GREGORIAN
METHOD:PUBLISH
CLASS:PUBLIC
BEGIN:VTIMEZONE
TZID:Europe/London
LAST-MODIFIED:20260306T231828Z
TZURL:https://www.tzurl.org/zoneinfo-outlook/Europe/London
X-LIC-LOCATION:Europe/London
BEGIN:DAYLIGHT
TZNAME:BST
TZOFFSETFROM:+0000
TZOFFSETTO:+0100
DTSTART:19700329T010000
RRULE:FREQ=YEARLY;BYMONTH=3;BYDAY=-1SU
END:DAYLIGHT
BEGIN:STANDARD
TZNAME:GMT
TZOFFSETFROM:+0100
TZOFFSETTO:+0000
DTSTART:19701025T020000
RRULE:FREQ=YEARLY;BYMONTH=10;BYDAY=-1SU
END:STANDARD
END:VTIMEZONE
BEGIN:VEVENT
DTSTART;TZID=Europe/London:20220321T130000
DTEND;TZID=Europe/London:20220321T140000
DTSTAMP:20260425T142949Z
UID:{589E0F0B-B65C-437E-97E548E9592B2241}
LOCATION:Online
SUMMARY:Imaging ONEWORLD
DESCRIPTION:'Correlative super-resolution microscopy technique to probe living Neuronal synapses' by Dr V. V. G. Krishna Inavalli from the Center for Cancer Immunology (CCI), University of Southampton, UK.\n
 \n
 Event details: https://www.rms.org.uk/rms-event-calendar/imaging-oneworld-21-march.html
PRIORITY:1
END:VEVENT
END:VCALENDAR