BEGIN:VCALENDAR
PRODID:-//Pixl8//Eventfolio//EN
VERSION:2.0
X-WR-TIMEZONE:Europe/London
CALSCALE:GREGORIAN
METHOD:PUBLISH
CLASS:PUBLIC
BEGIN:VTIMEZONE
TZID:Europe/London
LAST-MODIFIED:20260306T231828Z
TZURL:https://www.tzurl.org/zoneinfo-outlook/Europe/London
X-LIC-LOCATION:Europe/London
BEGIN:DAYLIGHT
TZNAME:BST
TZOFFSETFROM:+0000
TZOFFSETTO:+0100
DTSTART:19700329T010000
RRULE:FREQ=YEARLY;BYMONTH=3;BYDAY=-1SU
END:DAYLIGHT
BEGIN:STANDARD
TZNAME:GMT
TZOFFSETFROM:+0100
TZOFFSETTO:+0000
DTSTART:19701025T020000
RRULE:FREQ=YEARLY;BYMONTH=10;BYDAY=-1SU
END:STANDARD
END:VTIMEZONE
BEGIN:VEVENT
DTSTART;TZID=Europe/London:20220523T130000
DTEND;TZID=Europe/London:20220523T140000
DTSTAMP:20260424T170610Z
UID:{3C3FEEBF-40E1-46E0-96640918BB44B435}
LOCATION:Online
SUMMARY:Imaging ONEWORLD
DESCRIPTION:Professor Stephan Uphoff, University of Oxford - Imaging how bacteria sense and repair DNA damage at the single-molecule level\n
 \n
 Event details: https://www.rms.org.uk/rms-event-calendar/imaging-oneworld-23-may.html
PRIORITY:1
END:VEVENT
END:VCALENDAR