BEGIN:VCALENDAR
PRODID:-//Pixl8//Eventfolio//EN
VERSION:2.0
X-WR-TIMEZONE:Europe/London
CALSCALE:GREGORIAN
METHOD:PUBLISH
CLASS:PUBLIC
BEGIN:VTIMEZONE
TZID:Europe/London
LAST-MODIFIED:20260306T231828Z
TZURL:https://www.tzurl.org/zoneinfo-outlook/Europe/London
X-LIC-LOCATION:Europe/London
BEGIN:DAYLIGHT
TZNAME:BST
TZOFFSETFROM:+0000
TZOFFSETTO:+0100
DTSTART:19700329T010000
RRULE:FREQ=YEARLY;BYMONTH=3;BYDAY=-1SU
END:DAYLIGHT
BEGIN:STANDARD
TZNAME:GMT
TZOFFSETFROM:+0100
TZOFFSETTO:+0000
DTSTART:19701025T020000
RRULE:FREQ=YEARLY;BYMONTH=10;BYDAY=-1SU
END:STANDARD
END:VTIMEZONE
BEGIN:VEVENT
DTSTART;TZID=Europe/London:20220613T130000
DTEND;TZID=Europe/London:20220613T140000
DTSTAMP:20260424T170619Z
UID:{011AD56D-D7CA-4C36-AA2F9D0002E615DD}
LOCATION:Online
SUMMARY:Imaging ONEWORLD 
DESCRIPTION:3D Imaging at different scales using single-objective light-sheet microscopy by Dr. Jean-Baptiste Sibarita from the Centre national de la recherche scientifique, France\n
 \n
 Event details: https://www.rms.org.uk/rms-event-calendar/imaging-oneworld-thirteenth-june.html
PRIORITY:1
END:VEVENT
END:VCALENDAR