BEGIN:VCALENDAR
PRODID:-//Pixl8//Eventfolio//EN
VERSION:2.0
X-WR-TIMEZONE:Europe/Lisbon
CALSCALE:GREGORIAN
METHOD:PUBLISH
CLASS:PUBLIC
BEGIN:VTIMEZONE
TZID:Europe/Lisbon
LAST-MODIFIED:20260306T231828Z
TZURL:https://www.tzurl.org/zoneinfo-outlook/Europe/Lisbon
X-LIC-LOCATION:Europe/Lisbon
BEGIN:STANDARD
TZNAME:WET
TZOFFSETFROM:+0100
TZOFFSETTO:+0000
DTSTART:19701025T020000
RRULE:FREQ=YEARLY;BYMONTH=10;BYDAY=-1SU
END:STANDARD
BEGIN:DAYLIGHT
TZNAME:WEST
TZOFFSETFROM:+0000
TZOFFSETTO:+0100
DTSTART:19700329T010000
RRULE:FREQ=YEARLY;BYMONTH=3;BYDAY=-1SU
END:DAYLIGHT
END:VTIMEZONE
BEGIN:VEVENT
DTSTART;TZID=Europe/Lisbon;VALUE=DATE:20230514
DTEND;TZID=Europe/Lisbon;VALUE=DATE:20230518
DTSTAMP:20260424T170619Z
UID:{24F7E7AF-1FBC-437E-837B6367EA41D8FD}
LOCATION:Lisbon\, Portugal
SUMMARY:JCS2023: Imaging Cell Dynamics
DESCRIPTION:Event details: https://www.rms.org.uk/rms-event-calendar/jcs2023-imaging-cell-dynamics.html
PRIORITY:1
END:VEVENT
END:VCALENDAR