BEGIN:VCALENDAR
PRODID:-//Pixl8//Eventfolio//EN
VERSION:2.0
X-WR-TIMEZONE:Europe/London
CALSCALE:GREGORIAN
METHOD:PUBLISH
CLASS:PUBLIC
BEGIN:VTIMEZONE
TZID:Europe/London
LAST-MODIFIED:20260306T231828Z
TZURL:https://www.tzurl.org/zoneinfo-outlook/Europe/London
X-LIC-LOCATION:Europe/London
BEGIN:DAYLIGHT
TZNAME:BST
TZOFFSETFROM:+0000
TZOFFSETTO:+0100
DTSTART:19700329T010000
RRULE:FREQ=YEARLY;BYMONTH=3;BYDAY=-1SU
END:DAYLIGHT
BEGIN:STANDARD
TZNAME:GMT
TZOFFSETFROM:+0100
TZOFFSETTO:+0000
DTSTART:19701025T020000
RRULE:FREQ=YEARLY;BYMONTH=10;BYDAY=-1SU
END:STANDARD
END:VTIMEZONE
BEGIN:VEVENT
DTSTART;TZID=Europe/London;VALUE=DATE:20201116
DTEND;TZID=Europe/London;VALUE=DATE:20201117
DTSTAMP:20260424T013446Z
UID:{F028B1DD-289A-4E53-A70B2A44F211DF7E}
LOCATION:Online
SUMMARY:Microscopy: Advances, Innovation, Impact 2020 - incorporating the RMS AGM & Section AGMs
DESCRIPTION:Event details: https://www.rms.org.uk/rms-event-calendar/microscopy-advances-innovation-impact-2020.html
PRIORITY:1
END:VEVENT
END:VCALENDAR