BEGIN:VCALENDAR
PRODID:-//Pixl8//Eventfolio//EN
VERSION:2.0
X-WR-TIMEZONE:America/New_York
CALSCALE:GREGORIAN
METHOD:PUBLISH
CLASS:PUBLIC
BEGIN:VTIMEZONE
TZID:America/New_York
LAST-MODIFIED:20260306T231828Z
TZURL:https://www.tzurl.org/zoneinfo-outlook/America/New_York
X-LIC-LOCATION:America/New_York
BEGIN:DAYLIGHT
TZNAME:EDT
TZOFFSETFROM:-0500
TZOFFSETTO:-0400
DTSTART:19700308T020000
RRULE:FREQ=YEARLY;BYMONTH=3;BYDAY=2SU
END:DAYLIGHT
BEGIN:STANDARD
TZNAME:EST
TZOFFSETFROM:-0400
TZOFFSETTO:-0500
DTSTART:19701101T020000
RRULE:FREQ=YEARLY;BYMONTH=11;BYDAY=1SU
END:STANDARD
END:VTIMEZONE
BEGIN:VEVENT
DTSTART;TZID=America/New_York:20240505T180000
DTEND;TZID=America/New_York:20240508T130000
DTSTAMP:20260424T144513Z
UID:{2E775CA9-ECCF-4009-BF9C7B529EC63C5B}
LOCATION:Janelia Research Campus
SUMMARY:Microscopy Technology Dissemination to Underserved Communities 
DESCRIPTION:As microscopy gains acceptance as an indispensable tool in life sciences, the equitable dissemination of this highly resource-intensive technology remains a challenge, particularly in resource-constrained scientific communities. \n
 \n
 \n
 \n
 This unique conference will explore the challenges, solutions, and opportunities in microscopy dissemination.\n
 \n
 Event details: https://www.rms.org.uk/rms-event-calendar/microscopy-technology-dissemination-to-underserved-communities.html
PRIORITY:1
END:VEVENT
END:VCALENDAR