BEGIN:VCALENDAR
PRODID:-//Pixl8//Eventfolio//EN
VERSION:2.0
X-WR-TIMEZONE:Europe/London
CALSCALE:GREGORIAN
METHOD:PUBLISH
CLASS:PUBLIC
BEGIN:VTIMEZONE
TZID:Europe/London
LAST-MODIFIED:20260306T231828Z
TZURL:https://www.tzurl.org/zoneinfo-outlook/Europe/London
X-LIC-LOCATION:Europe/London
BEGIN:DAYLIGHT
TZNAME:BST
TZOFFSETFROM:+0000
TZOFFSETTO:+0100
DTSTART:19700329T010000
RRULE:FREQ=YEARLY;BYMONTH=3;BYDAY=-1SU
END:DAYLIGHT
BEGIN:STANDARD
TZNAME:GMT
TZOFFSETFROM:+0100
TZOFFSETTO:+0000
DTSTART:19701025T020000
RRULE:FREQ=YEARLY;BYMONTH=10;BYDAY=-1SU
END:STANDARD
END:VTIMEZONE
BEGIN:VEVENT
DTSTART;TZID=Europe/London:20240409T091500
DTEND;TZID=Europe/London:20240409T155000
DTSTAMP:20260424T170735Z
UID:{9844C82D-45D3-4F24-94AC0BB492A2AE5D}
LOCATION:University of Leicester 
SUMMARY:Midlands Innovation Electron Microscopy (MI EM) Network Launch Event
DESCRIPTION:Launch event for the Midlands Innovation Electron Microscopy Network (MI EM). This network aims to bring together and celebrate the regional expertise and capability in EM, serving as a forum to share best practice, disseminate information, and coordinate regional initiatives related to research, training, and funding opportunities.\n
 \n
 Event details: https://www.rms.org.uk/rms-event-calendar/midlands-innovation-electron-microscopy-mi-em-network-launch-event.html
PRIORITY:1
END:VEVENT
END:VCALENDAR