BEGIN:VCALENDAR
PRODID:-//Pixl8//Eventfolio//EN
VERSION:2.0
X-WR-TIMEZONE:Europe/London
CALSCALE:GREGORIAN
METHOD:PUBLISH
CLASS:PUBLIC
BEGIN:VTIMEZONE
TZID:Europe/London
LAST-MODIFIED:20260306T231828Z
TZURL:https://www.tzurl.org/zoneinfo-outlook/Europe/London
X-LIC-LOCATION:Europe/London
BEGIN:DAYLIGHT
TZNAME:BST
TZOFFSETFROM:+0000
TZOFFSETTO:+0100
DTSTART:19700329T010000
RRULE:FREQ=YEARLY;BYMONTH=3;BYDAY=-1SU
END:DAYLIGHT
BEGIN:STANDARD
TZNAME:GMT
TZOFFSETFROM:+0100
TZOFFSETTO:+0000
DTSTART:19701025T020000
RRULE:FREQ=YEARLY;BYMONTH=10;BYDAY=-1SU
END:STANDARD
END:VTIMEZONE
BEGIN:VEVENT
DTSTART;TZID=Europe/London:20230606T090000
DTEND;TZID=Europe/London:20230606T153000
DTSTAMP:20260424T144414Z
UID:{20A72263-0536-4F71-8F7D596EC1CD35BC}
LOCATION:Centre for Electron Microscopy\, University of Birmingham
SUMMARY:MidSEM 2023
DESCRIPTION:Tue 6 Jun 2023\n
 \n
 Centre for Electron Microscopy. University of Birmingham\n
 \n
 \n
 \n
 The MidSEM-2023 will be on Tue 6 Jun 2023. The meeting will follow the usual format of 2 morning scientific talks, then a trade forum, and then 2 afternoon scientific talks.\n
 \n
 \n
 \n
 There is a buffet lunch provided and registration is free. We look forward to seeing you.\n
 \n
 Event details: https://www.rms.org.uk/rms-event-calendar/midsem-2023.html
PRIORITY:1
END:VEVENT
END:VCALENDAR