BEGIN:VCALENDAR
PRODID:-//Pixl8//Eventfolio//EN
VERSION:2.0
X-WR-TIMEZONE:America/Puerto_Rico
CALSCALE:GREGORIAN
METHOD:PUBLISH
CLASS:PUBLIC
BEGIN:VTIMEZONE
TZID:America/Puerto_Rico
LAST-MODIFIED:20260306T231828Z
TZURL:https://www.tzurl.org/zoneinfo-outlook/America/Puerto_Rico
X-LIC-LOCATION:America/Puerto_Rico
BEGIN:STANDARD
TZNAME:AST
TZOFFSETFROM:-0400
TZOFFSETTO:-0400
DTSTART:19700101T000000
END:STANDARD
END:VTIMEZONE
BEGIN:VEVENT
DTSTART;TZID=America/Puerto_Rico:20201018T090000
DTEND;TZID=America/Puerto_Rico:20201023T170000
DTSTAMP:20260424T144553Z
UID:{442972EB-BB47-47BD-A75935E41AFEF759}
LOCATION:Guadeloupe\, French Caribbean
SUMMARY:NanoInBio 2020
DESCRIPTION:Event details: https://www.rms.org.uk/rms-event-calendar/nanoinbio-2020.html
PRIORITY:1
END:VEVENT
END:VCALENDAR