BEGIN:VCALENDAR
PRODID:-//Pixl8//Eventfolio//EN
VERSION:2.0
X-WR-TIMEZONE:Europe/London
CALSCALE:GREGORIAN
METHOD:PUBLISH
CLASS:PUBLIC
BEGIN:VTIMEZONE
TZID:Europe/London
LAST-MODIFIED:20260306T231828Z
TZURL:https://www.tzurl.org/zoneinfo-outlook/Europe/London
X-LIC-LOCATION:Europe/London
BEGIN:DAYLIGHT
TZNAME:BST
TZOFFSETFROM:+0000
TZOFFSETTO:+0100
DTSTART:19700329T010000
RRULE:FREQ=YEARLY;BYMONTH=3;BYDAY=-1SU
END:DAYLIGHT
BEGIN:STANDARD
TZNAME:GMT
TZOFFSETFROM:+0100
TZOFFSETTO:+0000
DTSTART:19701025T020000
RRULE:FREQ=YEARLY;BYMONTH=10;BYDAY=-1SU
END:STANDARD
END:VTIMEZONE
BEGIN:VEVENT
DTSTART;TZID=Europe/London:20180711T113000
DTEND;TZID=Europe/London:20180711T160000
DTSTAMP:20260425T143221Z
UID:{DE9C03DE-650C-4125-BE2CF4DC915EBC6D}
LOCATION:Princeton
SUMMARY:Nature Conference: Frontiers in Electron Microscopy for the Physical and Life Sciences
DESCRIPTION:Event details: https://www.rms.org.uk/rms-event-calendar/princeton-nature-conference.html
PRIORITY:1
END:VEVENT
END:VCALENDAR