BEGIN:VCALENDAR
PRODID:-//Pixl8//Eventfolio//EN
VERSION:2.0
X-WR-TIMEZONE:Europe/London
CALSCALE:GREGORIAN
METHOD:PUBLISH
CLASS:PUBLIC
BEGIN:VTIMEZONE
TZID:Europe/London
LAST-MODIFIED:20260306T231828Z
TZURL:https://www.tzurl.org/zoneinfo-outlook/Europe/London
X-LIC-LOCATION:Europe/London
BEGIN:DAYLIGHT
TZNAME:BST
TZOFFSETFROM:+0000
TZOFFSETTO:+0100
DTSTART:19700329T010000
RRULE:FREQ=YEARLY;BYMONTH=3;BYDAY=-1SU
END:DAYLIGHT
BEGIN:STANDARD
TZNAME:GMT
TZOFFSETFROM:+0100
TZOFFSETTO:+0000
DTSTART:19701025T020000
RRULE:FREQ=YEARLY;BYMONTH=10;BYDAY=-1SU
END:STANDARD
END:VTIMEZONE
BEGIN:VEVENT
DTSTART;TZID=Europe/London:20161013T090000
DTEND;TZID=Europe/London:20161013T170000
DTSTAMP:20260425T143221Z
UID:{4064A695-2DF3-4D4F-AD4B70C49241D3AB}
LOCATION:Struers Ltd\, Rotherham
SUMMARY:Quantitative Analysis of Grain Size Course 2016
DESCRIPTION:Event details: https://www.rms.org.uk/rms-event-calendar/quantitative-analysis-of-grain-size-course-2016.html
PRIORITY:1
END:VEVENT
END:VCALENDAR