BEGIN:VCALENDAR
PRODID:-//Pixl8//Eventfolio//EN
VERSION:2.0
X-WR-TIMEZONE:Europe/London
CALSCALE:GREGORIAN
METHOD:PUBLISH
CLASS:PUBLIC
BEGIN:VTIMEZONE
TZID:Europe/London
LAST-MODIFIED:20260306T231828Z
TZURL:https://www.tzurl.org/zoneinfo-outlook/Europe/London
X-LIC-LOCATION:Europe/London
BEGIN:DAYLIGHT
TZNAME:BST
TZOFFSETFROM:+0000
TZOFFSETTO:+0100
DTSTART:19700329T010000
RRULE:FREQ=YEARLY;BYMONTH=3;BYDAY=-1SU
END:DAYLIGHT
BEGIN:STANDARD
TZNAME:GMT
TZOFFSETFROM:+0100
TZOFFSETTO:+0000
DTSTART:19701025T020000
RRULE:FREQ=YEARLY;BYMONTH=10;BYDAY=-1SU
END:STANDARD
END:VTIMEZONE
BEGIN:VEVENT
DTSTART;TZID=Europe/London:20190529T100000
DTEND;TZID=Europe/London:20190529T160000
DTSTAMP:20260424T133617Z
UID:{EB5A730C-5563-4A00-8863BEA6981625BC}
LOCATION:Cambridge
SUMMARY:Sony Biotechnology Flow Cytometry Discover Day
DESCRIPTION:Event details: https://www.rms.org.uk/rms-event-calendar/sony-biotechnology-flow-cytometry-discover-day.html
PRIORITY:1
END:VEVENT
END:VCALENDAR