BEGIN:VCALENDAR
PRODID:-//Pixl8//Eventfolio//EN
VERSION:2.0
X-WR-TIMEZONE:Europe/Zurich
CALSCALE:GREGORIAN
METHOD:PUBLISH
CLASS:PUBLIC
BEGIN:VTIMEZONE
TZID:Europe/Zurich
LAST-MODIFIED:20260306T231828Z
TZURL:https://www.tzurl.org/zoneinfo-outlook/Europe/Zurich
X-LIC-LOCATION:Europe/Zurich
BEGIN:DAYLIGHT
TZNAME:CEST
TZOFFSETFROM:+0100
TZOFFSETTO:+0200
DTSTART:19700329T020000
RRULE:FREQ=YEARLY;BYMONTH=3;BYDAY=-1SU
END:DAYLIGHT
BEGIN:STANDARD
TZNAME:CET
TZOFFSETFROM:+0200
TZOFFSETTO:+0100
DTSTART:19701025T030000
RRULE:FREQ=YEARLY;BYMONTH=10;BYDAY=-1SU
END:STANDARD
END:VTIMEZONE
BEGIN:VEVENT
DTSTART;TZID=Europe/Zurich;VALUE=DATE:20220808
DTEND;TZID=Europe/Zurich;VALUE=DATE:20220815
DTSTAMP:20260424T115104Z
UID:{E8759FD5-093E-4BFE-A3E3283E77B6B8F5}
LOCATION:University of Bern\, Switzerland
SUMMARY:Stereology Workshop 2022
DESCRIPTION:Event details: https://www.rms.org.uk/rms-event-calendar/stereology-workshop-2022.html
PRIORITY:1
END:VEVENT
END:VCALENDAR