BEGIN:VCALENDAR
PRODID:-//Pixl8//Eventfolio//EN
VERSION:2.0
X-WR-TIMEZONE:Etc/GMT+1
CALSCALE:GREGORIAN
METHOD:PUBLISH
CLASS:PUBLIC
BEGIN:VTIMEZONE
TZID:Etc/GMT+1
LAST-MODIFIED:20260306T231828Z
TZURL:https://www.tzurl.org/zoneinfo-outlook/Etc/GMT+1
X-LIC-LOCATION:Etc/GMT+1
BEGIN:STANDARD
TZNAME:-01
TZOFFSETFROM:-0100
TZOFFSETTO:-0100
DTSTART:19700101T000000
END:STANDARD
END:VTIMEZONE
BEGIN:VEVENT
DTSTART;TZID=Etc/GMT+1:20201001T150000
DTEND;TZID=Etc/GMT+1:20201001T170000
DTSTAMP:20260424T072657Z
UID:{F5179A9A-4E59-42B4-911E4DB1CF72BA1F}
LOCATION:Online
SUMMARY:Virtual Electron Microscopy Open Facilities Forum 4
DESCRIPTION:Event details: https://www.rms.org.uk/rms-event-calendar/virtual-electron-microscopy-open-facilities-forum-4.html
PRIORITY:1
END:VEVENT
END:VCALENDAR