BEGIN:VCALENDAR
PRODID:-//Pixl8//Eventfolio//EN
VERSION:2.0
X-WR-TIMEZONE:Africa/Algiers
CALSCALE:GREGORIAN
METHOD:PUBLISH
CLASS:PUBLIC
BEGIN:VTIMEZONE
TZID:Africa/Algiers
LAST-MODIFIED:20260306T231828Z
TZURL:https://www.tzurl.org/zoneinfo-outlook/Africa/Algiers
X-LIC-LOCATION:Africa/Algiers
BEGIN:STANDARD
TZNAME:CET
TZOFFSETFROM:+0100
TZOFFSETTO:+0100
DTSTART:19700101T000000
END:STANDARD
END:VTIMEZONE
BEGIN:VEVENT
DTSTART;TZID=Africa/Algiers:20261203T140000
DTEND;TZID=Africa/Algiers:20261203T180000
DTSTAMP:20260424T085148Z
UID:{96D340C8-972C-46D0-AC0252D3EF0F0738.46359}
LOCATION:Online
SUMMARY:Virtual European Flow Core Meeting 2026
DESCRIPTION:Event details: https://www.rms.org.uk/rms-event-calendar/virtual-european-flow-core-meeting-2026.html
PRIORITY:1
END:VEVENT
BEGIN:VEVENT
DTSTART;TZID=Africa/Algiers:20261204T100000
DTEND;TZID=Africa/Algiers:20261204T143000
DTSTAMP:20260424T085148Z
UID:{96D340C8-972C-46D0-AC0252D3EF0F0738.46360}
LOCATION:Online
SUMMARY:Virtual European Flow Core Meeting 2026
DESCRIPTION:Event details: https://www.rms.org.uk/rms-event-calendar/virtual-european-flow-core-meeting-2026.html
PRIORITY:1
END:VEVENT
END:VCALENDAR