BEGIN:VCALENDAR
PRODID:-//Pixl8//Eventfolio//EN
VERSION:2.0
X-WR-TIMEZONE:Europe/London
CALSCALE:GREGORIAN
METHOD:PUBLISH
CLASS:PUBLIC
BEGIN:VTIMEZONE
TZID:Europe/London
LAST-MODIFIED:20260306T231828Z
TZURL:https://www.tzurl.org/zoneinfo-outlook/Europe/London
X-LIC-LOCATION:Europe/London
BEGIN:DAYLIGHT
TZNAME:BST
TZOFFSETFROM:+0000
TZOFFSETTO:+0100
DTSTART:19700329T010000
RRULE:FREQ=YEARLY;BYMONTH=3;BYDAY=-1SU
END:DAYLIGHT
BEGIN:STANDARD
TZNAME:GMT
TZOFFSETFROM:+0100
TZOFFSETTO:+0000
DTSTART:19701025T020000
RRULE:FREQ=YEARLY;BYMONTH=10;BYDAY=-1SU
END:STANDARD
END:VTIMEZONE
BEGIN:VEVENT
DTSTART;TZID=Europe/London:20230306T140000
DTEND;TZID=Europe/London:20230306T170000
DTSTAMP:20260424T071022Z
UID:{CB954B9F-98C2-4249-9F4A5913AC163478.44991}
LOCATION:Online
SUMMARY:Virtual Flow Cytometry Data Analysis Course Spring 2023
DESCRIPTION:Event details: https://www.rms.org.uk/rms-event-calendar/virtual-flow-cytometry-data-analysis-course-spring-2023.html
PRIORITY:1
END:VEVENT
BEGIN:VEVENT
DTSTART;TZID=Europe/London:20230307T140000
DTEND;TZID=Europe/London:20230307T170000
DTSTAMP:20260424T071022Z
UID:{CB954B9F-98C2-4249-9F4A5913AC163478.44992}
LOCATION:Online
SUMMARY:Virtual Flow Cytometry Data Analysis Course Spring 2023
DESCRIPTION:Event details: https://www.rms.org.uk/rms-event-calendar/virtual-flow-cytometry-data-analysis-course-spring-2023.html
PRIORITY:1
END:VEVENT
BEGIN:VEVENT
DTSTART;TZID=Europe/London:20230308T140000
DTEND;TZID=Europe/London:20230308T170000
DTSTAMP:20260424T071022Z
UID:{CB954B9F-98C2-4249-9F4A5913AC163478.44993}
LOCATION:Online
SUMMARY:Virtual Flow Cytometry Data Analysis Course Spring 2023
DESCRIPTION:Event details: https://www.rms.org.uk/rms-event-calendar/virtual-flow-cytometry-data-analysis-course-spring-2023.html
PRIORITY:1
END:VEVENT
BEGIN:VEVENT
DTSTART;TZID=Europe/London:20230309T140000
DTEND;TZID=Europe/London:20230309T170000
DTSTAMP:20260424T071022Z
UID:{CB954B9F-98C2-4249-9F4A5913AC163478.44994}
LOCATION:Online
SUMMARY:Virtual Flow Cytometry Data Analysis Course Spring 2023
DESCRIPTION:Event details: https://www.rms.org.uk/rms-event-calendar/virtual-flow-cytometry-data-analysis-course-spring-2023.html
PRIORITY:1
END:VEVENT
END:VCALENDAR