BEGIN:VCALENDAR
PRODID:-//Pixl8//Eventfolio//EN
VERSION:2.0
X-WR-TIMEZONE:Etc/GMT-1
CALSCALE:GREGORIAN
METHOD:PUBLISH
CLASS:PUBLIC
BEGIN:VTIMEZONE
TZID:Etc/GMT-1
LAST-MODIFIED:20260306T231828Z
TZURL:https://www.tzurl.org/zoneinfo-outlook/Etc/GMT-1
X-LIC-LOCATION:Etc/GMT-1
BEGIN:STANDARD
TZNAME:+01
TZOFFSETFROM:+0100
TZOFFSETTO:+0100
DTSTART:19700101T000000
END:STANDARD
END:VTIMEZONE
BEGIN:VEVENT
DTSTART;TZID=Etc/GMT-1:20200714T150000
DTEND;TZID=Etc/GMT-1:20200714T170000
DTSTAMP:20260424T072654Z
UID:{39422AC6-4C86-46C6-ADA1A0B93BFFC0E5}
LOCATION:Online
SUMMARY:Virtual Light Microscopy Facility Community Discussion #3
DESCRIPTION:Event details: https://www.rms.org.uk/rms-event-calendar/virtual-light-microscopy-facility-community-discussion-3.html
PRIORITY:1
END:VEVENT
END:VCALENDAR